BEGIN:VCALENDAR
VERSION:2.0
PRODID:-//Lloydminster Region Health Foundation - ECPv6.15.20//NONSGML v1.0//EN
CALSCALE:GREGORIAN
METHOD:PUBLISH
X-WR-CALNAME:Lloydminster Region Health Foundation
X-ORIGINAL-URL:https://www.lrhf.ca
X-WR-CALDESC:Events for Lloydminster Region Health Foundation
REFRESH-INTERVAL;VALUE=DURATION:PT1H
X-Robots-Tag:noindex
X-PUBLISHED-TTL:PT1H
BEGIN:VTIMEZONE
TZID:America/Edmonton
BEGIN:DAYLIGHT
TZOFFSETFROM:-0700
TZOFFSETTO:-0600
TZNAME:MDT
DTSTART:20220313T090000
END:DAYLIGHT
BEGIN:STANDARD
TZOFFSETFROM:-0600
TZOFFSETTO:-0700
TZNAME:MST
DTSTART:20221106T080000
END:STANDARD
BEGIN:DAYLIGHT
TZOFFSETFROM:-0700
TZOFFSETTO:-0600
TZNAME:MDT
DTSTART:20230312T090000
END:DAYLIGHT
BEGIN:STANDARD
TZOFFSETFROM:-0600
TZOFFSETTO:-0700
TZNAME:MST
DTSTART:20231105T080000
END:STANDARD
BEGIN:DAYLIGHT
TZOFFSETFROM:-0700
TZOFFSETTO:-0600
TZNAME:MDT
DTSTART:20240310T090000
END:DAYLIGHT
BEGIN:STANDARD
TZOFFSETFROM:-0600
TZOFFSETTO:-0700
TZNAME:MST
DTSTART:20241103T080000
END:STANDARD
END:VTIMEZONE
BEGIN:VEVENT
DTSTART;TZID=America/Edmonton:20230609T100000
DTEND;TZID=America/Edmonton:20230609T160000
DTSTAMP:20260424T162734
CREATED:20230529T210608Z
LAST-MODIFIED:20230529T210608Z
UID:10000004-1686304800-1686326400@www.lrhf.ca
SUMMARY:Lions Golf Tournament
DESCRIPTION:
URL:https://www.lrhf.ca/event/lions-golf-tournament/
LOCATION:Rolling Green Fairways\, Range Road 13\, Lloydminster\, Alberta\, Canada
CATEGORIES:3rd Party Events,Current Events
END:VEVENT
END:VCALENDAR