BEGIN:VCALENDAR
VERSION:2.0
PRODID:-//Lloydminster Region Health Foundation - ECPv6.15.20//NONSGML v1.0//EN
CALSCALE:GREGORIAN
METHOD:PUBLISH
X-ORIGINAL-URL:https://www.lrhf.ca
X-WR-CALDESC:Events for Lloydminster Region Health Foundation
REFRESH-INTERVAL;VALUE=DURATION:PT1H
X-Robots-Tag:noindex
X-PUBLISHED-TTL:PT1H
BEGIN:VTIMEZONE
TZID:America/Edmonton
BEGIN:DAYLIGHT
TZOFFSETFROM:-0700
TZOFFSETTO:-0600
TZNAME:MDT
DTSTART:20250309T090000
END:DAYLIGHT
BEGIN:STANDARD
TZOFFSETFROM:-0600
TZOFFSETTO:-0700
TZNAME:MST
DTSTART:20251102T080000
END:STANDARD
BEGIN:DAYLIGHT
TZOFFSETFROM:-0700
TZOFFSETTO:-0600
TZNAME:MDT
DTSTART:20260308T090000
END:DAYLIGHT
BEGIN:STANDARD
TZOFFSETFROM:-0600
TZOFFSETTO:-0700
TZNAME:MST
DTSTART:20261101T080000
END:STANDARD
BEGIN:DAYLIGHT
TZOFFSETFROM:-0700
TZOFFSETTO:-0600
TZNAME:MDT
DTSTART:20270314T090000
END:DAYLIGHT
BEGIN:STANDARD
TZOFFSETFROM:-0600
TZOFFSETTO:-0700
TZNAME:MST
DTSTART:20271107T080000
END:STANDARD
END:VTIMEZONE
BEGIN:VEVENT
DTSTART;VALUE=DATE:20260509
DTEND;VALUE=DATE:20260510
DTSTAMP:20260422T094552
CREATED:20250130T175601Z
LAST-MODIFIED:20260224T185257Z
UID:10000017-1778284800-1778371199@www.lrhf.ca
SUMMARY:Synergy Credit Union Sunrise Run
DESCRIPTION:Mark May 9th on your calendar and join hundreds of runners/walkers in Lloydminster to improve mental health in the community. \nThe Synergy Credit Union Sunrise Run is May 9th with all net proceeds to the Lloydminster Region Health Foundation for mental health programs in the area. \nA totally inclusive event for runners and walkers of all ages and abilities\, the Synergy Credit Union Sunrise Run has music on the course and big energy at the start/finish line. \nRegistration is now open for the Kids Mini Mile\, Kids Mini To Mighty Challenge\, 5KM or 7KM run/walk at www.321gorunning.ca with special early-bird pricing until March 13th! \nClick Here To Register \n 
URL:https://www.lrhf.ca/event/sunriserun/
LOCATION:Holy Rosary High School
CATEGORIES:3rd Party Events,Current Events,Events
ATTACH;FMTTYPE=image/png:https://www.lrhf.ca/wp-content/uploads/2026/01/Facebook-Profile.png
ORGANIZER;CN="Lloydminster Region Health Foundation":MAILTO:info@lrhf.ca
END:VEVENT
END:VCALENDAR